BEGIN:VCALENDAR
VERSION:2.0
PRODID:-//Sabre//Sabre VObject 4.5.8//EN
CALSCALE:GREGORIAN
BEGIN:VEVENT
UID:sabre-vobject-3ebe84e1-e1a3-4011-9fd8-2ba35e2de873
DTSTAMP:20260420T162354Z
SUMMARY:Date and Paint
DESCRIPTION:Nothing brings family closer than having fun together!\n
X-ALT-DESC:FMTTYPE=text/html:<!DOCTYPE HTML PUBLIC "-//W3C//DTD HTML 3.2//E
 N"><HTML><p>Nothing brings family closer than having fun together!</p>\n</
 HTML>
CREATED;TZID=America/New_York:20230323T092045
URL;VALUE=URI:https://belvoir.armymwr.com/calendar/event
DTSTART;TZID=America/New_York:20230428T180000
DTEND;TZID=America/New_York:20230428T200000
SEQUENCE:0
END:VEVENT
END:VCALENDAR
