BEGIN:VCALENDAR
VERSION:2.0
PRODID:-//Sabre//Sabre VObject 4.5.8//EN
CALSCALE:GREGORIAN
BEGIN:VEVENT
UID:sabre-vobject-185f0e51-3909-461e-b5b4-00531c2cb090
DTSTAMP:20260421T073441Z
SUMMARY:Game Night
DESCRIPTION:Enjoy a fun night of play with Army Community Service (ACS).\n
X-ALT-DESC:FMTTYPE=text/html:<!DOCTYPE HTML PUBLIC "-//W3C//DTD HTML 3.2//E
 N"><HTML><p>Enjoy a fun night of play with Army Community Service (ACS).</
 p>\n</HTML>
CREATED;TZID=America/New_York:20230401T093150
URL;VALUE=URI:https://belvoir.armymwr.com/calendar/event
DTSTART;TZID=America/New_York:20230407T180000
DTEND;TZID=America/New_York:20230407T190000
SEQUENCE:0
END:VEVENT
END:VCALENDAR
