BEGIN:VCALENDAR
VERSION:2.0
PRODID:-//Sabre//Sabre VObject 4.5.8//EN
CALSCALE:GREGORIAN
BEGIN:VEVENT
UID:sabre-vobject-574772eb-67e5-40cb-bd18-2f132f7bf16b
DTSTAMP:20260421T074819Z
SUMMARY:Operation Oil Spill Cleanup
DESCRIPTION:This STEAM challenge is designed for grades 7 - 12.\n
X-ALT-DESC:FMTTYPE=text/html:<!DOCTYPE HTML PUBLIC "-//W3C//DTD HTML 3.2//E
 N"><HTML><p>This STEAM challenge is designed for grades 7 - 12.</p>\n</HTM
 L>
CREATED;TZID=America/New_York:20230322T110110
URL;VALUE=URI:https://belvoir.armymwr.com/calendar/event
DTSTART;TZID=America/New_York:20230407T140000
DTEND;TZID=America/New_York:20230407T160000
SEQUENCE:0
END:VEVENT
END:VCALENDAR
