BEGIN:VCALENDAR
VERSION:2.0
PRODID:-//Sabre//Sabre VObject 4.5.8//EN
CALSCALE:GREGORIAN
BEGIN:VEVENT
UID:sabre-vobject-682fefcf-4f6e-4808-89ed-e9d910d92ca5
DTSTAMP:20260420T232509Z
SUMMARY:Food Distribution Event
DESCRIPTION:Join the fight to eradicate hunger in our Community!\n
X-ALT-DESC:FMTTYPE=text/html:<!DOCTYPE HTML PUBLIC "-//W3C//DTD HTML 3.2//E
 N"><HTML><p>Join the fight to eradicate hunger in our Community!</p>\n</HT
 ML>
CREATED;TZID=America/New_York:20230302T131452
URL;VALUE=URI:https://belvoir.armymwr.com/calendar/event
DTSTART;TZID=America/New_York:20230406T110000
DTEND;TZID=America/New_York:20230406T140000
SEQUENCE:0
END:VEVENT
END:VCALENDAR
