BEGIN:VCALENDAR
VERSION:2.0
PRODID:-//Sabre//Sabre VObject 4.5.8//EN
CALSCALE:GREGORIAN
BEGIN:VEVENT
UID:sabre-vobject-02fa5b90-b4b0-4c04-bbc5-cd0a03b2cbf5
DTSTAMP:20260419T132727Z
SUMMARY:TroutFest 
DESCRIPTION:The North Post Pool will be stocked with trout for the annual T
 routFest.\n
X-ALT-DESC:FMTTYPE=text/html:<!DOCTYPE HTML PUBLIC "-//W3C//DTD HTML 3.2//E
 N"><HTML><p>The <a href="https://belvoir.armymwr.com/index.php?cID=7856">N
 orth Post Pool </a>will be stocked with trout for the annual TroutFest.</p
 >\n</HTML>
CREATED;TZID=America/New_York:20200331T131950
URL;VALUE=URI:https://belvoir.armymwr.com/calendar/event
DTSTART;TZID=America/New_York:20200418T070000
DTEND;TZID=America/New_York:20200418T140000
SEQUENCE:0
END:VEVENT
END:VCALENDAR
