BEGIN:VCALENDAR
VERSION:2.0
PRODID:-//Sabre//Sabre VObject 4.5.8//EN
CALSCALE:GREGORIAN
BEGIN:VEVENT
UID:sabre-vobject-a3c9bb50-8119-4f4e-8688-3a1455868d29
DTSTAMP:20260420T195426Z
SUMMARY:Game On! at the Library
DESCRIPTION:Enjoy your day off from school\, and play&nbsp\;board games at 
 the Library!\n
X-ALT-DESC:FMTTYPE=text/html:<!DOCTYPE HTML PUBLIC "-//W3C//DTD HTML 3.2//E
 N"><HTML><p>Enjoy your day off from school\, and play&nbsp\;board games at
  the Library!</p>\n</HTML>
CREATED;TZID=America/New_York:20191031T115454
URL;VALUE=URI:https://belvoir.armymwr.com/calendar/event
DTSTART;TZID=America/New_York:20191105T150000
DTEND;TZID=America/New_York:20191105T170000
SEQUENCE:0
END:VEVENT
END:VCALENDAR
