BEGIN:VCALENDAR
VERSION:2.0
PRODID:-//Sabre//Sabre VObject 4.5.8//EN
CALSCALE:GREGORIAN
BEGIN:VEVENT
UID:sabre-vobject-c4983481-9f37-4d58-9ea9-ea3b538eed67
DTSTAMP:20260423T160306Z
SUMMARY:Library 100th Birthday Celebration
DESCRIPTION:Come out and celebrate MWR Libraries turning 100!\n
X-ALT-DESC:FMTTYPE=text/html:<!DOCTYPE HTML PUBLIC "-//W3C//DTD HTML 3.2//E
 N"><HTML><p>Come out and celebrate <strong>MWR Libraries turning 100</stro
 ng>!</p>\n</HTML>
CREATED;TZID=America/New_York:20190923T141604
URL;VALUE=URI:https://belvoir.armymwr.com/calendar/event
DTSTART;TZID=America/New_York:20190924T160000
DTEND;TZID=America/New_York:20190924T180000
SEQUENCE:0
END:VEVENT
END:VCALENDAR
