BEGIN:VCALENDAR
VERSION:2.0
PRODID:-//Sabre//Sabre VObject 4.5.8//EN
CALSCALE:GREGORIAN
BEGIN:VEVENT
UID:sabre-vobject-34a56a68-f336-48bf-918c-a45d217eb7d0
DTSTAMP:20260421T073453Z
SUMMARY:Thanksgiving Buffet
DESCRIPTION:Leave your dishes and worry at home while joining us for a deli
 cious Thanksgiving Buffet!\n
X-ALT-DESC:FMTTYPE=text/html:<!DOCTYPE HTML PUBLIC "-//W3C//DTD HTML 3.2//E
 N"><HTML><p>Leave your dishes and worry at home while joining us for a del
 icious Thanksgiving Buffet!</p>\n</HTML>
CREATED;TZID=America/New_York:20191125T122210
URL;VALUE=URI:https://belvoir.armymwr.com/calendar/event
DTSTART;TZID=America/New_York:20191128T103000
DTEND;TZID=America/New_York:20191128T113000
SEQUENCE:0
END:VEVENT
END:VCALENDAR
