BEGIN:VCALENDAR
VERSION:2.0
PRODID:-//Sabre//Sabre VObject 4.5.8//EN
CALSCALE:GREGORIAN
BEGIN:VEVENT
UID:sabre-vobject-26bf35de-e726-4f9b-a3f3-9d92311c4b3c
DTSTAMP:20260424T021524Z
SUMMARY:Pooch Plunge
DESCRIPTION:Have a dog that acts more like a fish? This event is for our fo
 ur-legged friends but fun for the whole family!\n
X-ALT-DESC:FMTTYPE=text/html:<!DOCTYPE HTML PUBLIC "-//W3C//DTD HTML 3.2//E
 N"><HTML><p><span style="font-size:14pt">Have a dog that acts more like a 
 fish? This event is for our four-legged friends but fun for the whole fami
 ly!</span></p>\n</HTML>
CREATED;TZID=America/New_York:20190806T161708
URL;VALUE=URI:https://belvoir.armymwr.com/calendar/event
DTSTART;TZID=America/New_York:20190907T090000
DTEND;TZID=America/New_York:20190907T130000
SEQUENCE:0
END:VEVENT
END:VCALENDAR
