BEGIN:VCALENDAR
VERSION:2.0
PRODID:-//Sabre//Sabre VObject 4.5.8//EN
CALSCALE:GREGORIAN
BEGIN:VEVENT
UID:sabre-vobject-4314d1c1-83a7-412e-b557-300c307eb530
DTSTAMP:20260425T150902Z
SUMMARY:Float-in Movie: Spiderman - Into the Spider-Verse
DESCRIPTION:Don&#39\;t miss this family favorite event!\n
X-ALT-DESC:FMTTYPE=text/html:<!DOCTYPE HTML PUBLIC "-//W3C//DTD HTML 3.2//E
 N"><HTML><p>Don&#39\;t miss this family favorite event!</p>\n</HTML>
CREATED;TZID=America/New_York:20190802T101423
URL;VALUE=URI:https://belvoir.armymwr.com/calendar/event
DTSTART;TZID=America/New_York:20190808T193000
DTEND;TZID=America/New_York:20190808T203000
SEQUENCE:0
END:VEVENT
END:VCALENDAR
