BEGIN:VCALENDAR
VERSION:2.0
PRODID:-//Sabre//Sabre VObject 4.5.8//EN
CALSCALE:GREGORIAN
BEGIN:VEVENT
UID:sabre-vobject-b42bea93-ac8c-429c-a61b-2d76fffadc2a
DTSTAMP:20260424T102741Z
SUMMARY:Water Aerobics: Combo Class (Deep and Shallow Water)
DESCRIPTION:Join Benyaurd Indoor Pool for a low-impact\, high-energy workou
 t!&nbsp\;\n
X-ALT-DESC:FMTTYPE=text/html:<!DOCTYPE HTML PUBLIC "-//W3C//DTD HTML 3.2//E
 N"><HTML><p>Join Benyaurd Indoor Pool for a low-impact\, high-energy worko
 ut!&nbsp\;</p>\n</HTML>
CREATED;TZID=America/New_York:20190716T153206
URL;VALUE=URI:https://belvoir.armymwr.com/calendar/event
DTSTART;TZID=America/New_York:20190718T170000
DTEND;TZID=America/New_York:20190718T175500
SEQUENCE:0
END:VEVENT
END:VCALENDAR
