BEGIN:VCALENDAR
VERSION:2.0
PRODID:-//Sabre//Sabre VObject 4.5.8//EN
CALSCALE:GREGORIAN
BEGIN:VEVENT
UID:sabre-vobject-3f28bd20-9060-4cb3-9486-1e4118faa684
DTSTAMP:20260425T212951Z
SUMMARY:Invincible Spirit Festival: Featuring the Lt. Dan Band
DESCRIPTION:You are invited to the Invincible Spirit Festival with the Gary
  Sinise Foundation and the Lt. Dan Band\n
X-ALT-DESC:FMTTYPE=text/html:<!DOCTYPE HTML PUBLIC "-//W3C//DTD HTML 3.2//E
 N"><HTML><p class="MsoNormal"><o:p></o:p>You are invited to the <strong>In
 vincible Spirit Festival</strong> with the <strong>Gary Sinise Foundation 
 and the Lt. Dan Band</strong><span style="font-size:14.0pt\;line-height:10
 7%\;mso-bidi-font-weight:\nbold"><o:p></o:p></span></p>\n</HTML>
CREATED;TZID=America/New_York:20190522T165136
URL;VALUE=URI:https://belvoir.armymwr.com/calendar/event
DTSTART;TZID=America/New_York:20190523T170000
DTEND;TZID=America/New_York:20190523T210000
SEQUENCE:0
END:VEVENT
END:VCALENDAR
