BEGIN:VCALENDAR
VERSION:2.0
PRODID:-//Sabre//Sabre VObject 4.5.8//EN
CALSCALE:GREGORIAN
BEGIN:VEVENT
UID:sabre-vobject-bf1ac479-aa69-4cb3-85ce-898f871612cc
DTSTAMP:20260424T021520Z
SUMMARY:#BeThere Resilience Team Challenge
DESCRIPTION:Build a team of 4\, and together\, conquer a 1600m Run\, 22 pus
 h-ups and the #BeThere Resilience Obstacle Course.\n
X-ALT-DESC:FMTTYPE=text/html:<!DOCTYPE HTML PUBLIC "-//W3C//DTD HTML 3.2//E
 N"><HTML><p>Build a team of 4\, and together\, conquer a 1600m Run\, 22 pu
 sh-ups and the #BeThere Resilience Obstacle Course.</p>\n</HTML>
CREATED;TZID=America/New_York:20190807T091526
URL;VALUE=URI:https://belvoir.armymwr.com/calendar/event
DTSTART;TZID=America/New_York:20190906T060000
DTEND;TZID=America/New_York:20190906T100000
SEQUENCE:0
END:VEVENT
END:VCALENDAR
