BEGIN:VCALENDAR
VERSION:2.0
PRODID:-//Sabre//Sabre VObject 4.5.8//EN
CALSCALE:GREGORIAN
BEGIN:VEVENT
UID:sabre-vobject-8c85ade1-fb64-4035-a843-afc3ff679c41
DTSTAMP:20260422T122229Z
SUMMARY:Mother's Week
DESCRIPTION:Celebrate mom all week long at Belvoir Bowling.\n
X-ALT-DESC:FMTTYPE=text/html:<!DOCTYPE HTML PUBLIC "-//W3C//DTD HTML 3.2//E
 N"><HTML><p>Celebrate mom all week long at Belvoir Bowling.</p>\n</HTML>
CREATED;TZID=America/New_York:20260421T085248
URL;VALUE=URI:https://belvoir.armymwr.com/calendar/event
DTSTART;TZID=America/New_York:20260506T150000
DTEND;TZID=America/New_York:20260510T180000
SEQUENCE:0
END:VEVENT
END:VCALENDAR
