BEGIN:VCALENDAR
VERSION:2.0
PRODID:-//Sabre//Sabre VObject 4.5.8//EN
CALSCALE:GREGORIAN
BEGIN:VEVENT
UID:sabre-vobject-ae5e6703-94f6-4857-a5d9-053877cdea9e
DTSTAMP:20260419T152849Z
SUMMARY: American Red Cross Parent and Child Swimming Lessons
DESCRIPTION:Splash into learning with the Aquatics Program!\n
X-ALT-DESC:FMTTYPE=text/html:<!DOCTYPE HTML PUBLIC "-//W3C//DTD HTML 3.2//E
 N"><HTML><p>Splash into learning with the Aquatics Program!</p>\n</HTML>
CREATED;TZID=America/New_York:20260312T071946
URL;VALUE=URI:https://belvoir.armymwr.com/calendar/event
DTSTART;TZID=America/New_York:20260317T100000
DTEND;TZID=America/New_York:20260317T103000
SEQUENCE:0
END:VEVENT
END:VCALENDAR
