BEGIN:VCALENDAR
VERSION:2.0
PRODID:-//Sabre//Sabre VObject 4.5.8//EN
CALSCALE:GREGORIAN
BEGIN:VEVENT
UID:sabre-vobject-5f996d43-e02a-4bdd-a962-847c91a9b7dd
DTSTAMP:20260420T195429Z
SUMMARY:Sponsorship Support Training
DESCRIPTION:Enabling your soldiers to train successful sponsors.\n
X-ALT-DESC:FMTTYPE=text/html:<!DOCTYPE HTML PUBLIC "-//W3C//DTD HTML 3.2//E
 N"><HTML><p>Enabling your soldiers to train successful sponsors.</p>\n</HT
 ML>
CREATED;TZID=America/New_York:20260114T155502
URL;VALUE=URI:https://belvoir.armymwr.com/calendar/event
DTSTART;TZID=America/New_York:20260105T130000
DTEND;TZID=America/New_York:20260105T140000
SEQUENCE:0
END:VEVENT
END:VCALENDAR
