BEGIN:VCALENDAR
VERSION:2.0
PRODID:-//Sabre//Sabre VObject 4.5.8//EN
CALSCALE:GREGORIAN
BEGIN:VEVENT
UID:sabre-vobject-b72fb153-fbbf-4593-b393-10189fe39b7a
DTSTAMP:20260424T021521Z
SUMMARY:Spouses' Welcome Orientation
DESCRIPTION:Join ACS to learn more about the Fort Belvoir community and the
  National Capitol Region.\n
X-ALT-DESC:FMTTYPE=text/html:<!DOCTYPE HTML PUBLIC "-//W3C//DTD HTML 3.2//E
 N"><HTML><p>Join ACS to learn more about the Fort Belvoir community and th
 e National Capitol Region.</p>\n</HTML>
CREATED;TZID=America/New_York:20251201T161250
URL;VALUE=URI:https://belvoir.armymwr.com/calendar/event
DTSTART;TZID=America/New_York:20260312T100000
DTEND;TZID=America/New_York:20260312T120000
SEQUENCE:0
END:VEVENT
BEGIN:VEVENT
UID:sabre-vobject-40e83fe4-f508-45f5-8158-74046f093441
DTSTAMP:20260424T021521Z
SUMMARY:Spouses' Welcome Orientation
DESCRIPTION:Join ACS to learn more about the Fort Belvoir community and the
  National Capitol Region.\n
X-ALT-DESC:FMTTYPE=text/html:<!DOCTYPE HTML PUBLIC "-//W3C//DTD HTML 3.2//E
 N"><HTML><p>Join ACS to learn more about the Fort Belvoir community and th
 e National Capitol Region.</p>\n</HTML>
CREATED;TZID=America/New_York:20251201T161250
URL;VALUE=URI:https://belvoir.armymwr.com/calendar/event
DTSTART;TZID=America/New_York:20260611T100000
DTEND;TZID=America/New_York:20260611T120000
SEQUENCE:1
END:VEVENT
BEGIN:VEVENT
UID:sabre-vobject-a8453be6-1593-4701-b5dc-5ccfd48baaad
DTSTAMP:20260424T021521Z
SUMMARY:Spouses' Welcome Orientation
DESCRIPTION:Join ACS to learn more about the Fort Belvoir community and the
  National Capitol Region.\n
X-ALT-DESC:FMTTYPE=text/html:<!DOCTYPE HTML PUBLIC "-//W3C//DTD HTML 3.2//E
 N"><HTML><p>Join ACS to learn more about the Fort Belvoir community and th
 e National Capitol Region.</p>\n</HTML>
CREATED;TZID=America/New_York:20251201T161250
URL;VALUE=URI:https://belvoir.armymwr.com/calendar/event
DTSTART;TZID=America/New_York:20260910T100000
DTEND;TZID=America/New_York:20260910T120000
SEQUENCE:2
END:VEVENT
END:VCALENDAR
