BEGIN:VCALENDAR
VERSION:2.0
PRODID:-//Sabre//Sabre VObject 4.5.8//EN
CALSCALE:GREGORIAN
BEGIN:VEVENT
UID:sabre-vobject-8865ef4b-275a-432f-9331-25815e0037d3
DTSTAMP:20260421T152237Z
SUMMARY:Teen Activity Night
DESCRIPTION:An evening of friends\, books\, games and general awesomeness -
  just for teens!\n
X-ALT-DESC:FMTTYPE=text/html:<!DOCTYPE HTML PUBLIC "-//W3C//DTD HTML 3.2//E
 N"><HTML><p>An evening of friends\, books\, games and general awesomeness 
 - just for teens!</p>\n</HTML>
CREATED;TZID=America/New_York:20251201T132310
URL;VALUE=URI:https://belvoir.armymwr.com/calendar/event
DTSTART;TZID=America/New_York:20260116T160000
DTEND;TZID=America/New_York:20260116T180000
SEQUENCE:0
END:VEVENT
BEGIN:VEVENT
UID:sabre-vobject-577333c6-7dc6-43b0-895c-96e2983eb33b
DTSTAMP:20260421T152237Z
SUMMARY:Teen Activity Night
DESCRIPTION:An evening of friends\, books\, games and general awesomeness -
  just for teens!\n
X-ALT-DESC:FMTTYPE=text/html:<!DOCTYPE HTML PUBLIC "-//W3C//DTD HTML 3.2//E
 N"><HTML><p>An evening of friends\, books\, games and general awesomeness 
 - just for teens!</p>\n</HTML>
CREATED;TZID=America/New_York:20251201T132310
URL;VALUE=URI:https://belvoir.armymwr.com/calendar/event
DTSTART;TZID=America/New_York:20260626T160000
DTEND;TZID=America/New_York:20260626T180000
SEQUENCE:1
END:VEVENT
BEGIN:VEVENT
UID:sabre-vobject-64a9d44d-95fa-4afe-a60f-0ba562c4c381
DTSTAMP:20260421T152237Z
SUMMARY:Teen Activity Night
DESCRIPTION:An evening of friends\, books\, games and general awesomeness -
  just for teens!\n
X-ALT-DESC:FMTTYPE=text/html:<!DOCTYPE HTML PUBLIC "-//W3C//DTD HTML 3.2//E
 N"><HTML><p>An evening of friends\, books\, games and general awesomeness 
 - just for teens!</p>\n</HTML>
CREATED;TZID=America/New_York:20251201T132310
URL;VALUE=URI:https://belvoir.armymwr.com/calendar/event
DTSTART;TZID=America/New_York:20260717T160000
DTEND;TZID=America/New_York:20260717T180000
SEQUENCE:2
END:VEVENT
END:VCALENDAR
