BEGIN:VCALENDAR
VERSION:2.0
PRODID:-//Sabre//Sabre VObject 4.5.8//EN
CALSCALE:GREGORIAN
BEGIN:VEVENT
UID:sabre-vobject-e7f89dde-0609-4d14-bc47-f351ba196d1c
DTSTAMP:20260423T160304Z
SUMMARY:CYSitter Babysitter Training Course
DESCRIPTION:Where teens learn to provide quality childcare as skilled babys
 itters.\n
X-ALT-DESC:FMTTYPE=text/html:<!DOCTYPE HTML PUBLIC "-//W3C//DTD HTML 3.2//E
 N"><HTML><p>Where teens learn to provide quality childcare as skilled baby
 sitters.</p>\n</HTML>
CREATED;TZID=America/New_York:20251124T165057
URL;VALUE=URI:https://belvoir.armymwr.com/calendar/event
DTSTART;TZID=America/New_York:20260217T080000
DTEND;TZID=America/New_York:20260217T163000
SEQUENCE:0
END:VEVENT
END:VCALENDAR
