BEGIN:VCALENDAR
VERSION:2.0
PRODID:-//Sabre//Sabre VObject 4.5.8//EN
CALSCALE:GREGORIAN
BEGIN:VEVENT
UID:sabre-vobject-eed52def-92d8-47b9-9365-dbde7526410f
DTSTAMP:20260424T081439Z
SUMMARY: American Red Cross Parent and Child Swimming Lessons
DESCRIPTION:Splash into learning with the Aquatics Program!\n
X-ALT-DESC:FMTTYPE=text/html:<!DOCTYPE HTML PUBLIC "-//W3C//DTD HTML 3.2//E
 N"><HTML><p>Splash into learning with the Aquatics Program!</p>\n</HTML>
CREATED;TZID=America/New_York:20251113T150447
URL;VALUE=URI:https://belvoir.armymwr.com/calendar/event
DTSTART;TZID=America/New_York:20260106T163000
DTEND;TZID=America/New_York:20260106T173000
SEQUENCE:0
END:VEVENT
END:VCALENDAR
