BEGIN:VCALENDAR
VERSION:2.0
PRODID:-//Sabre//Sabre VObject 4.5.8//EN
CALSCALE:GREGORIAN
BEGIN:VEVENT
UID:sabre-vobject-be0fb879-c804-4cdc-b338-04f639dc6e93
DTSTAMP:20260419T134541Z
SUMMARY:Recreational Swimming Days
DESCRIPTION:Splish\, splash\, let&#39\;s have a blast with the Aquatics Pro
 gram!\n
X-ALT-DESC:FMTTYPE=text/html:<!DOCTYPE HTML PUBLIC "-//W3C//DTD HTML 3.2//E
 N"><HTML><p>Splish\, splash\, let&#39\;s have a blast with the Aquatics Pr
 ogram!</p>\n</HTML>
CREATED;TZID=America/New_York:20250923T170908
URL;VALUE=URI:https://belvoir.armymwr.com/calendar/event
DTSTART;TZID=America/New_York:20251018T110000
DTEND;TZID=America/New_York:20251018T160000
SEQUENCE:0
END:VEVENT
END:VCALENDAR
